BEGIN:VCALENDAR
VERSION:2.0
PRODID:-//SFBAMA - ECPv6.15.20//NONSGML v1.0//EN
CALSCALE:GREGORIAN
METHOD:PUBLISH
X-ORIGINAL-URL:https://sfbama.org
X-WR-CALDESC:Events for SFBAMA
REFRESH-INTERVAL;VALUE=DURATION:PT1H
X-Robots-Tag:noindex
X-PUBLISHED-TTL:PT1H
BEGIN:VTIMEZONE
TZID:America/Los_Angeles
BEGIN:DAYLIGHT
TZOFFSETFROM:-0800
TZOFFSETTO:-0700
TZNAME:PDT
DTSTART:20220313T100000
END:DAYLIGHT
BEGIN:STANDARD
TZOFFSETFROM:-0700
TZOFFSETTO:-0800
TZNAME:PST
DTSTART:20221106T090000
END:STANDARD
BEGIN:DAYLIGHT
TZOFFSETFROM:-0800
TZOFFSETTO:-0700
TZNAME:PDT
DTSTART:20230312T100000
END:DAYLIGHT
BEGIN:STANDARD
TZOFFSETFROM:-0700
TZOFFSETTO:-0800
TZNAME:PST
DTSTART:20231105T090000
END:STANDARD
BEGIN:DAYLIGHT
TZOFFSETFROM:-0800
TZOFFSETTO:-0700
TZNAME:PDT
DTSTART:20240310T100000
END:DAYLIGHT
BEGIN:STANDARD
TZOFFSETFROM:-0700
TZOFFSETTO:-0800
TZNAME:PST
DTSTART:20241103T090000
END:STANDARD
END:VTIMEZONE
BEGIN:VEVENT
DTSTART;VALUE=DATE:20230909
DTEND;VALUE=DATE:20230910
DTSTAMP:20260421T023817
CREATED:20221115T185341Z
LAST-MODIFIED:20231121T220011Z
UID:5429-1694217600-1694303999@sfbama.org
SUMMARY:SSS Half Moon Bay         SH/DH
DESCRIPTION:A mostly downwind one-way race from the bay to Half Moon Bay\, this race involves beating out through the Golden Gate\, often has a beam reach or a broad reach down along coast past Land’s End\, and finishes by spinnaker down in Half Moon Bay\, going around the famous Maverick’s big wave surf break.  The Half Moon Bay Yacht Club hosts a party after the race\, and most competitors stay overnight and then return the following morning\, but some boats “turn and burn” and sail back home again after the finish on Saturday.
URL:https://sfbama.org/event/sss-half-moon-bay-sh-dh-3/
LOCATION:Ocean
CATEGORIES:2024 SSS Season Series,Racing
END:VEVENT
END:VCALENDAR